BEGIN:VCALENDAR
VERSION:2.0
CALSCALE:GREGORIAN
PRODID:UnionActive
BEGIN:VEVENT
UID:12559034@ibew233.org
SUMMARY:Helena Unit Meeting 
DESCRIPTION:Contact:  \nLink for more information: http://ibew233.org/index.cfm?zone=/unionactive/view_calendar.cfm&calendarID=12559034&thisdate=06/13/2023&useCalSection=main
LOCATION:Helena Labor Temple, 110 N. Warren, Helena Mt
URL:http://ibew233.org/index.cfm?zone=/unionactive/view_calendar.cfm&calendarID=12559034&thisdate=06/13/2023&useCalSection=main
DTSTART:20230614T000000Z
DTEND:20230614T013000Z
DTSTAMP:20240229T133611
TRIGGER:-PT60M
END:VEVENT
END:VCALENDAR
