BEGIN:VCALENDAR
VERSION:2.0
CALSCALE:GREGORIAN
PRODID:UnionActive
BEGIN:VEVENT
UID:12559041@ibew233.org
SUMMARY:Helena Unit Meeting 
DESCRIPTION:Contact:  \nLink for more information: http://ibew233.org/index.cfm?zone=/unionactive/view_calendar.cfm&calendarID=12559041&thisdate=01/16/2024&useCalSection=main
LOCATION:Helena Labor Temple, 110 N. Warren, Helena Mt
URL:http://ibew233.org/index.cfm?zone=/unionactive/view_calendar.cfm&calendarID=12559041&thisdate=01/16/2024&useCalSection=main
DTSTART:20240117T010000Z
DTEND:20240117T023000Z
DTSTAMP:20240229T130717
TRIGGER:-PT60M
END:VEVENT
END:VCALENDAR
