BEGIN:VCALENDAR
VERSION:2.0
CALSCALE:GREGORIAN
PRODID:UnionActive
BEGIN:VEVENT
UID:12559044@ibew233.org
SUMMARY:Helena Unit Meeting 
DESCRIPTION:Contact:  \nLink for more information: http://ibew233.org/index.cfm?zone=/unionactive/view_calendar.cfm&calendarID=12559044&thisdate=04/09/2024&useCalSection=main
LOCATION:Helena Labor Temple, 110 N. Warren, Helena Mt
URL:http://ibew233.org/index.cfm?zone=/unionactive/view_calendar.cfm&calendarID=12559044&thisdate=04/09/2024&useCalSection=main
DTSTART:20240410T000000Z
DTEND:20240410T013000Z
DTSTAMP:20240229T132039
TRIGGER:-PT60M
END:VEVENT
END:VCALENDAR
