BEGIN:VCALENDAR
VERSION:2.0
CALSCALE:GREGORIAN
PRODID:UnionActive
BEGIN:VEVENT
UID:12559049@ibew233.org
SUMMARY:Helena Unit Meeting 
DESCRIPTION:Contact:  \nLink for more information: http://ibew233.org/index.cfm?zone=/unionactive/view_calendar.cfm&calendarID=12559049&thisdate=09/10/2024&useCalSection=main
LOCATION:Helena Labor Temple, 110 N. Warren, Helena Mt
URL:http://ibew233.org/index.cfm?zone=/unionactive/view_calendar.cfm&calendarID=12559049&thisdate=09/10/2024&useCalSection=main
DTSTART:20240911T000000Z
DTEND:20240911T013000Z
DTSTAMP:20240229T132041
TRIGGER:-PT60M
END:VEVENT
END:VCALENDAR
