BEGIN:VCALENDAR
VERSION:2.0
CALSCALE:GREGORIAN
PRODID:UnionActive
BEGIN:VEVENT
UID:12559053@ibew233.org
SUMMARY:Great Falls Unit Meeting 
DESCRIPTION:Contact:  \nLink for more information: http://ibew233.org/index.cfm?zone=/unionactive/view_calendar.cfm&calendarID=12559053&thisdate=01/12/2023&useCalSection=main
LOCATION:Great Falls Union Hall. 1112 7th St South, Great Falls, Mt.
URL:http://ibew233.org/index.cfm?zone=/unionactive/view_calendar.cfm&calendarID=12559053&thisdate=01/12/2023&useCalSection=main
DTSTART:20230113T010000Z
DTEND:20230113T023000Z
DTSTAMP:20240229T133610
TRIGGER:-PT60M
END:VEVENT
END:VCALENDAR
