BEGIN:VCALENDAR
VERSION:2.0
CALSCALE:GREGORIAN
PRODID:UnionActive
BEGIN:VEVENT
UID:12559064@ibew233.org
SUMMARY:Great Falls Unit Meeting 
DESCRIPTION:Contact:  \nLink for more information: http://ibew233.org/index.cfm?zone=/unionactive/view_calendar.cfm&calendarID=12559064&thisdate=12/14/2023&useCalSection=main
LOCATION:Great Falls Union Hall. 1112 7th St South, Great Falls, Mt.
URL:http://ibew233.org/index.cfm?zone=/unionactive/view_calendar.cfm&calendarID=12559064&thisdate=12/14/2023&useCalSection=main
DTSTART:20231215T010000Z
DTEND:20231215T023000Z
DTSTAMP:20240229T133641
TRIGGER:-PT60M
END:VEVENT
END:VCALENDAR
