BEGIN:VCALENDAR
VERSION:2.0
CALSCALE:GREGORIAN
PRODID:UnionActive
BEGIN:VEVENT
UID:12559068@ibew233.org
SUMMARY:Great Falls Unit Meeting 
DESCRIPTION:Contact:  \nLink for more information: http://ibew233.org/index.cfm?zone=/unionactive/view_calendar.cfm&calendarID=12559068&thisdate=04/11/2024&useCalSection=main
LOCATION:Great Falls Union Hall. 1112 7th St South, Great Falls, Mt.
URL:http://ibew233.org/index.cfm?zone=/unionactive/view_calendar.cfm&calendarID=12559068&thisdate=04/11/2024&useCalSection=main
DTSTART:20240412T000000Z
DTEND:20240412T013000Z
DTSTAMP:20240229T132040
TRIGGER:-PT60M
END:VEVENT
END:VCALENDAR
