BEGIN:VCALENDAR
VERSION:2.0
CALSCALE:GREGORIAN
PRODID:UnionActive
BEGIN:VEVENT
UID:12575883@ibew233.org
SUMMARY:Butte Christmas Party
DESCRIPTION:Contact:  \nLink for more information: http://ibew233.org/index.cfm?zone=/unionactive/view_calendar.cfm&calendarID=12575883&thisdate=12/09/2023&useCalSection=main
LOCATION:156 West Granite
Butte MT 59701
URL:http://ibew233.org/index.cfm?zone=/unionactive/view_calendar.cfm&calendarID=12575883&thisdate=12/09/2023&useCalSection=main
DTSTART:20231210T000000Z
DTEND:20231210T050000Z
DTSTAMP:20240229T133654
TRIGGER:-PT60M
END:VEVENT
END:VCALENDAR
