BEGIN:VCALENDAR
VERSION:2.0
CALSCALE:GREGORIAN
PRODID:UnionActive
BEGIN:VEVENT
UID:12587005@ibew233.org
SUMMARY:CEU Code Refresher-Helena
DESCRIPTION:Contact:  \nLink for more information: http://ibew233.org/index.cfm?zone=/unionactive/view_calendar.cfm&calendarID=12587005&thisdate=02/10/2024&useCalSection=main
LOCATION:Helena
URL:http://ibew233.org/index.cfm?zone=/unionactive/view_calendar.cfm&calendarID=12587005&thisdate=02/10/2024&useCalSection=main
DTSTART:20240210T150000Z
DTEND:20240211T000000Z
DTSTAMP:20240229T125849
TRIGGER:-PT60M
END:VEVENT
END:VCALENDAR
