BEGIN:VCALENDAR
VERSION:2.0
CALSCALE:GREGORIAN
PRODID:UnionActive
BEGIN:VEVENT
UID:9337035@ibew233.org
SUMMARY:Great Falls Christmas Party
DESCRIPTION:Contact:  \nLink for more information: http://ibew233.org/index.cfm?zone=/unionactive/view_calendar.cfm&calendarID=9337035&thisdate=12/17/2016&useCalSection=main
LOCATION:Great Falls Labor Temple at 1112 7th St S, Great Falls, MT
URL:http://ibew233.org/index.cfm?zone=/unionactive/view_calendar.cfm&calendarID=9337035&thisdate=12/17/2016&useCalSection=main
DTSTART:20161217T230000Z
DTEND:20161218T050000Z
DTSTAMP:20240229T135344
TRIGGER:-PT60M
END:VEVENT
END:VCALENDAR
