BEGIN:VCALENDAR
VERSION:2.0
CALSCALE:GREGORIAN
PRODID:UnionActive
BEGIN:VEVENT
UID:9818271@ibew233.org
SUMMARY:CEU SOLAR/GROUNDING (BUTTE) 8 HOURS CODE
DESCRIPTION:Contact: To sign up for this class go to www.mtelectricaljatc.org/ceu \nLink for more information: http://ibew233.org/index.cfm?zone=/unionactive/view_calendar.cfm&calendarID=9818271&thisdate=09/23/2017&useCalSection=main
LOCATION:Carpenters Union Hall Butte
URL:http://ibew233.org/index.cfm?zone=/unionactive/view_calendar.cfm&calendarID=9818271&thisdate=09/23/2017&useCalSection=main
DTSTART:20170923T140000Z
DTEND:20170923T220000Z
DTSTAMP:20240229T135248
TRIGGER:-PT60M
END:VEVENT
END:VCALENDAR
