BEGIN:VCALENDAR
VERSION:2.0
PRODID:UnionActive
URL:http://ibew233.org/?zone=/unionactive/calendar.cfm&usecalsection=main
NAME:www.ibew233.org main
X-WR-CALNAME:www.ibew233.org main
DESCRIPTION:www.ibew233.org main
X-WR-CALDESC:www.ibew233.org main
REFRESH-INTERVAL;VALUE=DURATION:PT12H
X-PUBLISHED-TTL:PT12H
CALSCALE:GREGORIAN
METHOD:PUBLISH
BEGIN:VEVENT
UID:12587006@ibew233.org
SUMMARY:CEU NEC Significant Changes-Great Falls
DESCRIPTION:Contact:  \nLink for more information: http://ibew233.org/index.cfm?zone=/unionactive/view_calendar.cfm&calendarID=12587006&thisdate=03/09/2024&useCalSection=main
LOCATION:Great Falls, Butte
URL:http://ibew233.org/index.cfm?zone=/unionactive/view_calendar.cfm&calendarID=12587006&thisdate=03/09/2024&useCalSection=main
DTSTART:20240309T150000Z
DTEND:20240309T120000Z
DTSTAMP:20240229T130032
TRIGGER:-PT60M
END:VEVENT
BEGIN:VEVENT
UID:12558995@ibew233.org
SUMMARY:Eboard Meeting
DESCRIPTION:Contact:  \nLink for more information: http://ibew233.org/index.cfm?zone=/unionactive/view_calendar.cfm&calendarID=12558995&thisdate=03/11/2024&useCalSection=main
LOCATION:110 Nwarren Helena Mt 59601
URL:http://ibew233.org/index.cfm?zone=/unionactive/view_calendar.cfm&calendarID=12558995&thisdate=03/11/2024&useCalSection=main
DTSTART:20240312T010000Z
DTEND:20240312T030000Z
DTSTAMP:20240229T130032
TRIGGER:-PT60M
END:VEVENT
BEGIN:VEVENT
UID:12559043@ibew233.org
SUMMARY:Helena Unit Meeting 
DESCRIPTION:Contact:  \nLink for more information: http://ibew233.org/index.cfm?zone=/unionactive/view_calendar.cfm&calendarID=12559043&thisdate=03/12/2024&useCalSection=main
LOCATION:Helena Labor Temple, 110 N. Warren, Helena Mt
URL:http://ibew233.org/index.cfm?zone=/unionactive/view_calendar.cfm&calendarID=12559043&thisdate=03/12/2024&useCalSection=main
DTSTART:20240313T000000Z
DTEND:20240313T013000Z
DTSTAMP:20240229T130032
TRIGGER:-PT60M
END:VEVENT
BEGIN:VEVENT
UID:12559019@ibew233.org
SUMMARY:Butte Unit Meeting 
DESCRIPTION:Contact:  \nLink for more information: http://ibew233.org/index.cfm?zone=/unionactive/view_calendar.cfm&calendarID=12559019&thisdate=03/13/2024&useCalSection=main
LOCATION:Butte Carpenter Hall. 156 W. Granite St, Butte Mt
URL:http://ibew233.org/index.cfm?zone=/unionactive/view_calendar.cfm&calendarID=12559019&thisdate=03/13/2024&useCalSection=main
DTSTART:20240314T000000Z
DTEND:20240314T013000Z
DTSTAMP:20240229T130032
TRIGGER:-PT60M
END:VEVENT
BEGIN:VEVENT
UID:12559067@ibew233.org
SUMMARY:Great Falls Unit Meeting 
DESCRIPTION:Contact:  \nLink for more information: http://ibew233.org/index.cfm?zone=/unionactive/view_calendar.cfm&calendarID=12559067&thisdate=03/14/2024&useCalSection=main
LOCATION:Great Falls Union Hall. 1112 7th St South, Great Falls, Mt.
URL:http://ibew233.org/index.cfm?zone=/unionactive/view_calendar.cfm&calendarID=12559067&thisdate=03/14/2024&useCalSection=main
DTSTART:20240315T000000Z
DTEND:20240315T013000Z
DTSTAMP:20240229T130032
TRIGGER:-PT60M
END:VEVENT
BEGIN:VEVENT
UID:12587007@ibew233.org
SUMMARY:Labor History- Great Falls
DESCRIPTION:Contact:  \nLink for more information: http://ibew233.org/index.cfm?zone=/unionactive/view_calendar.cfm&calendarID=12587007&thisdate=03/23/2024&useCalSection=main
LOCATION:Great Falls
URL:http://ibew233.org/index.cfm?zone=/unionactive/view_calendar.cfm&calendarID=12587007&thisdate=03/23/2024&useCalSection=main
DTSTART:20240323T140000Z
DTEND:20240323T230000Z
DTSTAMP:20240229T130032
TRIGGER:-PT60M
END:VEVENT
BEGIN:VEVENT
UID:12558996@ibew233.org
SUMMARY:Eboard Meeting
DESCRIPTION:Contact:  \nLink for more information: http://ibew233.org/index.cfm?zone=/unionactive/view_calendar.cfm&calendarID=12558996&thisdate=04/04/2024&useCalSection=main
LOCATION:110 Nwarren Helena Mt 59601
URL:http://ibew233.org/index.cfm?zone=/unionactive/view_calendar.cfm&calendarID=12558996&thisdate=04/04/2024&useCalSection=main
DTSTART:20240405T010000Z
DTEND:20240405T030000Z
DTSTAMP:20240229T130032
TRIGGER:-PT60M
END:VEVENT
BEGIN:VEVENT
UID:12559044@ibew233.org
SUMMARY:Helena Unit Meeting 
DESCRIPTION:Contact:  \nLink for more information: http://ibew233.org/index.cfm?zone=/unionactive/view_calendar.cfm&calendarID=12559044&thisdate=04/09/2024&useCalSection=main
LOCATION:Helena Labor Temple, 110 N. Warren, Helena Mt
URL:http://ibew233.org/index.cfm?zone=/unionactive/view_calendar.cfm&calendarID=12559044&thisdate=04/09/2024&useCalSection=main
DTSTART:20240410T000000Z
DTEND:20240410T013000Z
DTSTAMP:20240229T130032
TRIGGER:-PT60M
END:VEVENT
BEGIN:VEVENT
UID:12559020@ibew233.org
SUMMARY:Butte Unit Meeting 
DESCRIPTION:Contact:  \nLink for more information: http://ibew233.org/index.cfm?zone=/unionactive/view_calendar.cfm&calendarID=12559020&thisdate=04/10/2024&useCalSection=main
LOCATION:Butte Carpenter Hall. 156 W. Granite St, Butte Mt
URL:http://ibew233.org/index.cfm?zone=/unionactive/view_calendar.cfm&calendarID=12559020&thisdate=04/10/2024&useCalSection=main
DTSTART:20240411T000000Z
DTEND:20240411T013000Z
DTSTAMP:20240229T130032
TRIGGER:-PT60M
END:VEVENT
BEGIN:VEVENT
UID:12559068@ibew233.org
SUMMARY:Great Falls Unit Meeting 
DESCRIPTION:Contact:  \nLink for more information: http://ibew233.org/index.cfm?zone=/unionactive/view_calendar.cfm&calendarID=12559068&thisdate=04/11/2024&useCalSection=main
LOCATION:Great Falls Union Hall. 1112 7th St South, Great Falls, Mt.
URL:http://ibew233.org/index.cfm?zone=/unionactive/view_calendar.cfm&calendarID=12559068&thisdate=04/11/2024&useCalSection=main
DTSTART:20240412T000000Z
DTEND:20240412T013000Z
DTSTAMP:20240229T130032
TRIGGER:-PT60M
END:VEVENT
BEGIN:VEVENT
UID:12587008@ibew233.org
SUMMARY:CEU Grounding-Helena
DESCRIPTION:Contact:  \nLink for more information: http://ibew233.org/index.cfm?zone=/unionactive/view_calendar.cfm&calendarID=12587008&thisdate=04/13/2024&useCalSection=main
LOCATION:Helena
URL:http://ibew233.org/index.cfm?zone=/unionactive/view_calendar.cfm&calendarID=12587008&thisdate=04/13/2024&useCalSection=main
DTSTART:20240413T140000Z
DTEND:20240413T230000Z
DTSTAMP:20240229T130032
TRIGGER:-PT60M
END:VEVENT
BEGIN:VEVENT
UID:12587013@ibew233.org
SUMMARY:CEU To be Determined-Great Falls
DESCRIPTION:Contact:  \nLink for more information: http://ibew233.org/index.cfm?zone=/unionactive/view_calendar.cfm&calendarID=12587013&thisdate=04/20/2024&useCalSection=main
LOCATION:
URL:http://ibew233.org/index.cfm?zone=/unionactive/view_calendar.cfm&calendarID=12587013&thisdate=04/20/2024&useCalSection=main
DTSTART:20240420T140000Z
DTEND:20240420T230000Z
DTSTAMP:20240229T130032
TRIGGER:-PT60M
END:VEVENT
BEGIN:VEVENT
UID:12587010@ibew233.org
SUMMARY:CEU Solar-Butte
DESCRIPTION:Contact:  \nLink for more information: http://ibew233.org/index.cfm?zone=/unionactive/view_calendar.cfm&calendarID=12587010&thisdate=04/27/2024&useCalSection=main
LOCATION:
URL:http://ibew233.org/index.cfm?zone=/unionactive/view_calendar.cfm&calendarID=12587010&thisdate=04/27/2024&useCalSection=main
DTSTART:20240427T140000Z
DTEND:20240427T230000Z
DTSTAMP:20240229T130032
TRIGGER:-PT60M
END:VEVENT
BEGIN:VEVENT
UID:12587011@ibew233.org
SUMMARY:CEU Labor History-Helena
DESCRIPTION:Contact:  \nLink for more information: http://ibew233.org/index.cfm?zone=/unionactive/view_calendar.cfm&calendarID=12587011&thisdate=04/27/2024&useCalSection=main
LOCATION:
URL:http://ibew233.org/index.cfm?zone=/unionactive/view_calendar.cfm&calendarID=12587011&thisdate=04/27/2024&useCalSection=main
DTSTART:20240427T140000Z
DTEND:20240427T230000Z
DTSTAMP:20240229T130032
TRIGGER:-PT60M
END:VEVENT
BEGIN:VEVENT
UID:12558997@ibew233.org
SUMMARY:Eboard Meeting
DESCRIPTION:Contact:  \nLink for more information: http://ibew233.org/index.cfm?zone=/unionactive/view_calendar.cfm&calendarID=12558997&thisdate=05/09/2024&useCalSection=main
LOCATION:110 Nwarren Helena Mt 59601
URL:http://ibew233.org/index.cfm?zone=/unionactive/view_calendar.cfm&calendarID=12558997&thisdate=05/09/2024&useCalSection=main
DTSTART:20240510T010000Z
DTEND:20240510T030000Z
DTSTAMP:20240229T130032
TRIGGER:-PT60M
END:VEVENT
BEGIN:VEVENT
UID:12559045@ibew233.org
SUMMARY:Helena Unit Meeting 
DESCRIPTION:Contact:  \nLink for more information: http://ibew233.org/index.cfm?zone=/unionactive/view_calendar.cfm&calendarID=12559045&thisdate=05/14/2024&useCalSection=main
LOCATION:Helena Labor Temple, 110 N. Warren, Helena Mt
URL:http://ibew233.org/index.cfm?zone=/unionactive/view_calendar.cfm&calendarID=12559045&thisdate=05/14/2024&useCalSection=main
DTSTART:20240515T000000Z
DTEND:20240515T013000Z
DTSTAMP:20240229T130032
TRIGGER:-PT60M
END:VEVENT
BEGIN:VEVENT
UID:12559021@ibew233.org
SUMMARY:Butte Unit Meeting 
DESCRIPTION:Contact:  \nLink for more information: http://ibew233.org/index.cfm?zone=/unionactive/view_calendar.cfm&calendarID=12559021&thisdate=05/15/2024&useCalSection=main
LOCATION:Butte Carpenter Hall. 156 W. Granite St, Butte Mt
URL:http://ibew233.org/index.cfm?zone=/unionactive/view_calendar.cfm&calendarID=12559021&thisdate=05/15/2024&useCalSection=main
DTSTART:20240516T000000Z
DTEND:20240516T013000Z
DTSTAMP:20240229T130032
TRIGGER:-PT60M
END:VEVENT
BEGIN:VEVENT
UID:12559069@ibew233.org
SUMMARY:Great Falls Unit Meeting 
DESCRIPTION:Contact:  \nLink for more information: http://ibew233.org/index.cfm?zone=/unionactive/view_calendar.cfm&calendarID=12559069&thisdate=05/16/2024&useCalSection=main
LOCATION:Great Falls Union Hall. 1112 7th St South, Great Falls, Mt.
URL:http://ibew233.org/index.cfm?zone=/unionactive/view_calendar.cfm&calendarID=12559069&thisdate=05/16/2024&useCalSection=main
DTSTART:20240517T000000Z
DTEND:20240517T013000Z
DTSTAMP:20240229T130032
TRIGGER:-PT60M
END:VEVENT
BEGIN:VEVENT
UID:12587012@ibew233.org
SUMMARY:CEU NEC Significant Changes-Butte
DESCRIPTION:Contact:  \nLink for more information: http://ibew233.org/index.cfm?zone=/unionactive/view_calendar.cfm&calendarID=12587012&thisdate=05/18/2024&useCalSection=main
LOCATION:Butte
URL:http://ibew233.org/index.cfm?zone=/unionactive/view_calendar.cfm&calendarID=12587012&thisdate=05/18/2024&useCalSection=main
DTSTART:20240518T140000Z
DTEND:20240518T230000Z
DTSTAMP:20240229T130032
TRIGGER:-PT60M
END:VEVENT
BEGIN:VEVENT
UID:12558998@ibew233.org
SUMMARY:Eboard Meeting
DESCRIPTION:Contact:  \nLink for more information: http://ibew233.org/index.cfm?zone=/unionactive/view_calendar.cfm&calendarID=12558998&thisdate=06/06/2024&useCalSection=main
LOCATION:110 Nwarren Helena Mt 59601
URL:http://ibew233.org/index.cfm?zone=/unionactive/view_calendar.cfm&calendarID=12558998&thisdate=06/06/2024&useCalSection=main
DTSTART:20240607T010000Z
DTEND:20240607T030000Z
DTSTAMP:20240229T130032
TRIGGER:-PT60M
END:VEVENT
BEGIN:VEVENT
UID:12559046@ibew233.org
SUMMARY:Helena Unit Meeting 
DESCRIPTION:Contact:  \nLink for more information: http://ibew233.org/index.cfm?zone=/unionactive/view_calendar.cfm&calendarID=12559046&thisdate=06/11/2024&useCalSection=main
LOCATION:Helena Labor Temple, 110 N. Warren, Helena Mt
URL:http://ibew233.org/index.cfm?zone=/unionactive/view_calendar.cfm&calendarID=12559046&thisdate=06/11/2024&useCalSection=main
DTSTART:20240612T000000Z
DTEND:20240612T013000Z
DTSTAMP:20240229T130032
TRIGGER:-PT60M
END:VEVENT
BEGIN:VEVENT
UID:12559022@ibew233.org
SUMMARY:Butte Unit Meeting 
DESCRIPTION:Contact:  \nLink for more information: http://ibew233.org/index.cfm?zone=/unionactive/view_calendar.cfm&calendarID=12559022&thisdate=06/12/2024&useCalSection=main
LOCATION:Butte Carpenter Hall. 156 W. Granite St, Butte Mt
URL:http://ibew233.org/index.cfm?zone=/unionactive/view_calendar.cfm&calendarID=12559022&thisdate=06/12/2024&useCalSection=main
DTSTART:20240613T000000Z
DTEND:20240613T013000Z
DTSTAMP:20240229T130032
TRIGGER:-PT60M
END:VEVENT
BEGIN:VEVENT
UID:12559070@ibew233.org
SUMMARY:Great Falls Unit Meeting 
DESCRIPTION:Contact:  \nLink for more information: http://ibew233.org/index.cfm?zone=/unionactive/view_calendar.cfm&calendarID=12559070&thisdate=06/13/2024&useCalSection=main
LOCATION:Great Falls Union Hall. 1112 7th St South, Great Falls, Mt.
URL:http://ibew233.org/index.cfm?zone=/unionactive/view_calendar.cfm&calendarID=12559070&thisdate=06/13/2024&useCalSection=main
DTSTART:20240614T000000Z
DTEND:20240614T013000Z
DTSTAMP:20240229T130032
TRIGGER:-PT60M
END:VEVENT
BEGIN:VEVENT
UID:12558999@ibew233.org
SUMMARY:Eboard Meeting
DESCRIPTION:Contact:  \nLink for more information: http://ibew233.org/index.cfm?zone=/unionactive/view_calendar.cfm&calendarID=12558999&thisdate=07/11/2024&useCalSection=main
LOCATION:110 Nwarren Helena Mt 59601
URL:http://ibew233.org/index.cfm?zone=/unionactive/view_calendar.cfm&calendarID=12558999&thisdate=07/11/2024&useCalSection=main
DTSTART:20240712T010000Z
DTEND:20240712T030000Z
DTSTAMP:20240229T130032
TRIGGER:-PT60M
END:VEVENT
BEGIN:VEVENT
UID:12559047@ibew233.org
SUMMARY:Helena Unit Meeting 
DESCRIPTION:Contact:  \nLink for more information: http://ibew233.org/index.cfm?zone=/unionactive/view_calendar.cfm&calendarID=12559047&thisdate=07/16/2024&useCalSection=main
LOCATION:Helena Labor Temple, 110 N. Warren, Helena Mt
URL:http://ibew233.org/index.cfm?zone=/unionactive/view_calendar.cfm&calendarID=12559047&thisdate=07/16/2024&useCalSection=main
DTSTART:20240717T000000Z
DTEND:20240717T013000Z
DTSTAMP:20240229T130032
TRIGGER:-PT60M
END:VEVENT
BEGIN:VEVENT
UID:12559023@ibew233.org
SUMMARY:Butte Unit Meeting 
DESCRIPTION:Contact:  \nLink for more information: http://ibew233.org/index.cfm?zone=/unionactive/view_calendar.cfm&calendarID=12559023&thisdate=07/17/2024&useCalSection=main
LOCATION:Butte Carpenter Hall. 156 W. Granite St, Butte Mt
URL:http://ibew233.org/index.cfm?zone=/unionactive/view_calendar.cfm&calendarID=12559023&thisdate=07/17/2024&useCalSection=main
DTSTART:20240718T000000Z
DTEND:20240718T013000Z
DTSTAMP:20240229T130032
TRIGGER:-PT60M
END:VEVENT
BEGIN:VEVENT
UID:12559071@ibew233.org
SUMMARY:Great Falls Unit Meeting 
DESCRIPTION:Contact:  \nLink for more information: http://ibew233.org/index.cfm?zone=/unionactive/view_calendar.cfm&calendarID=12559071&thisdate=07/18/2024&useCalSection=main
LOCATION:Great Falls Union Hall. 1112 7th St South, Great Falls, Mt.
URL:http://ibew233.org/index.cfm?zone=/unionactive/view_calendar.cfm&calendarID=12559071&thisdate=07/18/2024&useCalSection=main
DTSTART:20240719T000000Z
DTEND:20240719T013000Z
DTSTAMP:20240229T130032
TRIGGER:-PT60M
END:VEVENT
BEGIN:VEVENT
UID:12559000@ibew233.org
SUMMARY:Eboard Meeting
DESCRIPTION:Contact:  \nLink for more information: http://ibew233.org/index.cfm?zone=/unionactive/view_calendar.cfm&calendarID=12559000&thisdate=08/08/2024&useCalSection=main
LOCATION:110 Nwarren Helena Mt 59601
URL:http://ibew233.org/index.cfm?zone=/unionactive/view_calendar.cfm&calendarID=12559000&thisdate=08/08/2024&useCalSection=main
DTSTART:20240809T010000Z
DTEND:20240809T030000Z
DTSTAMP:20240229T130032
TRIGGER:-PT60M
END:VEVENT
BEGIN:VEVENT
UID:12559048@ibew233.org
SUMMARY:Helena Unit Meeting 
DESCRIPTION:Contact:  \nLink for more information: http://ibew233.org/index.cfm?zone=/unionactive/view_calendar.cfm&calendarID=12559048&thisdate=08/13/2024&useCalSection=main
LOCATION:Helena Labor Temple, 110 N. Warren, Helena Mt
URL:http://ibew233.org/index.cfm?zone=/unionactive/view_calendar.cfm&calendarID=12559048&thisdate=08/13/2024&useCalSection=main
DTSTART:20240814T000000Z
DTEND:20240814T013000Z
DTSTAMP:20240229T130032
TRIGGER:-PT60M
END:VEVENT
BEGIN:VEVENT
UID:12559024@ibew233.org
SUMMARY:Butte Unit Meeting 
DESCRIPTION:Contact:  \nLink for more information: http://ibew233.org/index.cfm?zone=/unionactive/view_calendar.cfm&calendarID=12559024&thisdate=08/14/2024&useCalSection=main
LOCATION:Butte Carpenter Hall. 156 W. Granite St, Butte Mt
URL:http://ibew233.org/index.cfm?zone=/unionactive/view_calendar.cfm&calendarID=12559024&thisdate=08/14/2024&useCalSection=main
DTSTART:20240815T000000Z
DTEND:20240815T013000Z
DTSTAMP:20240229T130032
TRIGGER:-PT60M
END:VEVENT
BEGIN:VEVENT
UID:12559072@ibew233.org
SUMMARY:Great Falls Unit Meeting 
DESCRIPTION:Contact:  \nLink for more information: http://ibew233.org/index.cfm?zone=/unionactive/view_calendar.cfm&calendarID=12559072&thisdate=08/15/2024&useCalSection=main
LOCATION:Great Falls Union Hall. 1112 7th St South, Great Falls, Mt.
URL:http://ibew233.org/index.cfm?zone=/unionactive/view_calendar.cfm&calendarID=12559072&thisdate=08/15/2024&useCalSection=main
DTSTART:20240816T000000Z
DTEND:20240816T013000Z
DTSTAMP:20240229T130032
TRIGGER:-PT60M
END:VEVENT
BEGIN:VEVENT
UID:12559001@ibew233.org
SUMMARY:Eboard Meeting
DESCRIPTION:Contact:  \nLink for more information: http://ibew233.org/index.cfm?zone=/unionactive/view_calendar.cfm&calendarID=12559001&thisdate=09/05/2024&useCalSection=main
LOCATION:110 Nwarren Helena Mt 59601
URL:http://ibew233.org/index.cfm?zone=/unionactive/view_calendar.cfm&calendarID=12559001&thisdate=09/05/2024&useCalSection=main
DTSTART:20240906T010000Z
DTEND:20240906T030000Z
DTSTAMP:20240229T130032
TRIGGER:-PT60M
END:VEVENT
BEGIN:VEVENT
UID:12559049@ibew233.org
SUMMARY:Helena Unit Meeting 
DESCRIPTION:Contact:  \nLink for more information: http://ibew233.org/index.cfm?zone=/unionactive/view_calendar.cfm&calendarID=12559049&thisdate=09/10/2024&useCalSection=main
LOCATION:Helena Labor Temple, 110 N. Warren, Helena Mt
URL:http://ibew233.org/index.cfm?zone=/unionactive/view_calendar.cfm&calendarID=12559049&thisdate=09/10/2024&useCalSection=main
DTSTART:20240911T000000Z
DTEND:20240911T013000Z
DTSTAMP:20240229T130032
TRIGGER:-PT60M
END:VEVENT
BEGIN:VEVENT
UID:12559025@ibew233.org
SUMMARY:Butte Unit Meeting 
DESCRIPTION:Contact:  \nLink for more information: http://ibew233.org/index.cfm?zone=/unionactive/view_calendar.cfm&calendarID=12559025&thisdate=09/11/2024&useCalSection=main
LOCATION:Butte Carpenter Hall. 156 W. Granite St, Butte Mt
URL:http://ibew233.org/index.cfm?zone=/unionactive/view_calendar.cfm&calendarID=12559025&thisdate=09/11/2024&useCalSection=main
DTSTART:20240912T000000Z
DTEND:20240912T013000Z
DTSTAMP:20240229T130032
TRIGGER:-PT60M
END:VEVENT
BEGIN:VEVENT
UID:12559073@ibew233.org
SUMMARY:Great Falls Unit Meeting 
DESCRIPTION:Contact:  \nLink for more information: http://ibew233.org/index.cfm?zone=/unionactive/view_calendar.cfm&calendarID=12559073&thisdate=09/12/2024&useCalSection=main
LOCATION:Great Falls Union Hall. 1112 7th St South, Great Falls, Mt.
URL:http://ibew233.org/index.cfm?zone=/unionactive/view_calendar.cfm&calendarID=12559073&thisdate=09/12/2024&useCalSection=main
DTSTART:20240913T000000Z
DTEND:20240913T013000Z
DTSTAMP:20240229T130032
TRIGGER:-PT60M
END:VEVENT
BEGIN:VEVENT
UID:12559002@ibew233.org
SUMMARY:Eboard Meeting
DESCRIPTION:Contact:  \nLink for more information: http://ibew233.org/index.cfm?zone=/unionactive/view_calendar.cfm&calendarID=12559002&thisdate=10/03/2024&useCalSection=main
LOCATION:110 Nwarren Helena Mt 59601
URL:http://ibew233.org/index.cfm?zone=/unionactive/view_calendar.cfm&calendarID=12559002&thisdate=10/03/2024&useCalSection=main
DTSTART:20241004T010000Z
DTEND:20241004T030000Z
DTSTAMP:20240229T130032
TRIGGER:-PT60M
END:VEVENT
BEGIN:VEVENT
UID:12559050@ibew233.org
SUMMARY:Helena Unit Meeting 
DESCRIPTION:Contact:  \nLink for more information: http://ibew233.org/index.cfm?zone=/unionactive/view_calendar.cfm&calendarID=12559050&thisdate=10/08/2024&useCalSection=main
LOCATION:Helena Labor Temple, 110 N. Warren, Helena Mt
URL:http://ibew233.org/index.cfm?zone=/unionactive/view_calendar.cfm&calendarID=12559050&thisdate=10/08/2024&useCalSection=main
DTSTART:20241009T000000Z
DTEND:20241009T013000Z
DTSTAMP:20240229T130032
TRIGGER:-PT60M
END:VEVENT
BEGIN:VEVENT
UID:12559026@ibew233.org
SUMMARY:Butte Unit Meeting 
DESCRIPTION:Contact:  \nLink for more information: http://ibew233.org/index.cfm?zone=/unionactive/view_calendar.cfm&calendarID=12559026&thisdate=10/09/2024&useCalSection=main
LOCATION:Butte Carpenter Hall. 156 W. Granite St, Butte Mt
URL:http://ibew233.org/index.cfm?zone=/unionactive/view_calendar.cfm&calendarID=12559026&thisdate=10/09/2024&useCalSection=main
DTSTART:20241010T000000Z
DTEND:20241010T013000Z
DTSTAMP:20240229T130032
TRIGGER:-PT60M
END:VEVENT
BEGIN:VEVENT
UID:12559074@ibew233.org
SUMMARY:Great Falls Unit Meeting 
DESCRIPTION:Contact:  \nLink for more information: http://ibew233.org/index.cfm?zone=/unionactive/view_calendar.cfm&calendarID=12559074&thisdate=10/10/2024&useCalSection=main
LOCATION:Great Falls Union Hall. 1112 7th St South, Great Falls, Mt.
URL:http://ibew233.org/index.cfm?zone=/unionactive/view_calendar.cfm&calendarID=12559074&thisdate=10/10/2024&useCalSection=main
DTSTART:20241011T000000Z
DTEND:20241011T013000Z
DTSTAMP:20240229T130032
TRIGGER:-PT60M
END:VEVENT
BEGIN:VEVENT
UID:12559003@ibew233.org
SUMMARY:Eboard Meeting
DESCRIPTION:Contact:  \nLink for more information: http://ibew233.org/index.cfm?zone=/unionactive/view_calendar.cfm&calendarID=12559003&thisdate=11/07/2024&useCalSection=main
LOCATION:110 Nwarren Helena Mt 59601
URL:http://ibew233.org/index.cfm?zone=/unionactive/view_calendar.cfm&calendarID=12559003&thisdate=11/07/2024&useCalSection=main
DTSTART:20241108T020000Z
DTEND:20241108T040000Z
DTSTAMP:20240229T130032
TRIGGER:-PT60M
END:VEVENT
BEGIN:VEVENT
UID:12559051@ibew233.org
SUMMARY:Helena Unit Meeting 
DESCRIPTION:Contact:  \nLink for more information: http://ibew233.org/index.cfm?zone=/unionactive/view_calendar.cfm&calendarID=12559051&thisdate=11/12/2024&useCalSection=main
LOCATION:Helena Labor Temple, 110 N. Warren, Helena Mt
URL:http://ibew233.org/index.cfm?zone=/unionactive/view_calendar.cfm&calendarID=12559051&thisdate=11/12/2024&useCalSection=main
DTSTART:20241113T010000Z
DTEND:20241113T023000Z
DTSTAMP:20240229T130032
TRIGGER:-PT60M
END:VEVENT
BEGIN:VEVENT
UID:12559027@ibew233.org
SUMMARY:Butte Unit Meeting 
DESCRIPTION:Contact:  \nLink for more information: http://ibew233.org/index.cfm?zone=/unionactive/view_calendar.cfm&calendarID=12559027&thisdate=11/13/2024&useCalSection=main
LOCATION:Butte Carpenter Hall. 156 W. Granite St, Butte Mt
URL:http://ibew233.org/index.cfm?zone=/unionactive/view_calendar.cfm&calendarID=12559027&thisdate=11/13/2024&useCalSection=main
DTSTART:20241114T010000Z
DTEND:20241114T023000Z
DTSTAMP:20240229T130032
TRIGGER:-PT60M
END:VEVENT
BEGIN:VEVENT
UID:12559075@ibew233.org
SUMMARY:Great Falls Unit Meeting 
DESCRIPTION:Contact:  \nLink for more information: http://ibew233.org/index.cfm?zone=/unionactive/view_calendar.cfm&calendarID=12559075&thisdate=11/14/2024&useCalSection=main
LOCATION:Great Falls Union Hall. 1112 7th St South, Great Falls, Mt.
URL:http://ibew233.org/index.cfm?zone=/unionactive/view_calendar.cfm&calendarID=12559075&thisdate=11/14/2024&useCalSection=main
DTSTART:20241115T010000Z
DTEND:20241115T023000Z
DTSTAMP:20240229T130032
TRIGGER:-PT60M
END:VEVENT
BEGIN:VEVENT
UID:12559004@ibew233.org
SUMMARY:Eboard Meeting
DESCRIPTION:Contact:  \nLink for more information: http://ibew233.org/index.cfm?zone=/unionactive/view_calendar.cfm&calendarID=12559004&thisdate=12/05/2024&useCalSection=main
LOCATION:110 Nwarren Helena Mt 59601
URL:http://ibew233.org/index.cfm?zone=/unionactive/view_calendar.cfm&calendarID=12559004&thisdate=12/05/2024&useCalSection=main
DTSTART:20241206T020000Z
DTEND:20241206T040000Z
DTSTAMP:20240229T130032
TRIGGER:-PT60M
END:VEVENT
BEGIN:VEVENT
UID:12559052@ibew233.org
SUMMARY:Helena Unit Meeting 
DESCRIPTION:Contact:  \nLink for more information: http://ibew233.org/index.cfm?zone=/unionactive/view_calendar.cfm&calendarID=12559052&thisdate=12/10/2024&useCalSection=main
LOCATION:Helena Labor Temple, 110 N. Warren, Helena Mt
URL:http://ibew233.org/index.cfm?zone=/unionactive/view_calendar.cfm&calendarID=12559052&thisdate=12/10/2024&useCalSection=main
DTSTART:20241211T010000Z
DTEND:20241211T023000Z
DTSTAMP:20240229T130032
TRIGGER:-PT60M
END:VEVENT
BEGIN:VEVENT
UID:12559028@ibew233.org
SUMMARY:Butte Unit Meeting 
DESCRIPTION:Contact:  \nLink for more information: http://ibew233.org/index.cfm?zone=/unionactive/view_calendar.cfm&calendarID=12559028&thisdate=12/11/2024&useCalSection=main
LOCATION:Butte Carpenter Hall. 156 W. Granite St, Butte Mt
URL:http://ibew233.org/index.cfm?zone=/unionactive/view_calendar.cfm&calendarID=12559028&thisdate=12/11/2024&useCalSection=main
DTSTART:20241212T010000Z
DTEND:20241212T023000Z
DTSTAMP:20240229T130032
TRIGGER:-PT60M
END:VEVENT
BEGIN:VEVENT
UID:12559076@ibew233.org
SUMMARY:Great Falls Unit Meeting 
DESCRIPTION:Contact:  \nLink for more information: http://ibew233.org/index.cfm?zone=/unionactive/view_calendar.cfm&calendarID=12559076&thisdate=12/12/2024&useCalSection=main
LOCATION:Great Falls Union Hall. 1112 7th St South, Great Falls, Mt.
URL:http://ibew233.org/index.cfm?zone=/unionactive/view_calendar.cfm&calendarID=12559076&thisdate=12/12/2024&useCalSection=main
DTSTART:20241213T010000Z
DTEND:20241213T023000Z
DTSTAMP:20240229T130032
TRIGGER:-PT60M
END:VEVENT
END:VCALENDAR
